BEGIN:VCALENDAR
VERSION:2.0
PRODID:-//Dakini Maris - ECPv6.15.20//NONSGML v1.0//EN
CALSCALE:GREGORIAN
METHOD:PUBLISH
X-WR-CALNAME:Dakini Maris
X-ORIGINAL-URL:https://dakinimaris.org
X-WR-CALDESC:Events for Dakini Maris
REFRESH-INTERVAL;VALUE=DURATION:PT1H
X-Robots-Tag:noindex
X-PUBLISHED-TTL:PT1H
BEGIN:VTIMEZONE
TZID:Europe/London
BEGIN:DAYLIGHT
TZOFFSETFROM:+0000
TZOFFSETTO:+0100
TZNAME:BST
DTSTART:20250330T010000
END:DAYLIGHT
BEGIN:STANDARD
TZOFFSETFROM:+0100
TZOFFSETTO:+0000
TZNAME:GMT
DTSTART:20251026T010000
END:STANDARD
BEGIN:DAYLIGHT
TZOFFSETFROM:+0000
TZOFFSETTO:+0100
TZNAME:BST
DTSTART:20260329T010000
END:DAYLIGHT
BEGIN:STANDARD
TZOFFSETFROM:+0100
TZOFFSETTO:+0000
TZNAME:GMT
DTSTART:20261025T010000
END:STANDARD
BEGIN:DAYLIGHT
TZOFFSETFROM:+0000
TZOFFSETTO:+0100
TZNAME:BST
DTSTART:20270328T010000
END:DAYLIGHT
BEGIN:STANDARD
TZOFFSETFROM:+0100
TZOFFSETTO:+0000
TZNAME:GMT
DTSTART:20271031T010000
END:STANDARD
END:VTIMEZONE
BEGIN:VEVENT
DTSTART;TZID=Europe/London:20260422T190000
DTEND;TZID=Europe/London:20260422T200000
DTSTAMP:20260422T014920
CREATED:20260218T174250Z
LAST-MODIFIED:20260218T174250Z
UID:3761-1776884400-1776888000@dakinimaris.org
SUMMARY:Meditation Circle
DESCRIPTION:These meditations include working with breath\, body prayer and chanting\, and are drawn from the vast treasure trove of the ancient teachings in Sufism\, which are designed to bring healing\, joy and inner peace in these turbulent times. \nAll welcome – all ages\, abilities\, experiences and personal beliefs are accepted and included. \nThis event is held at a private residence. To receive the exact address and RSVP\, please send me a message here. \nDonations welcome. \nMeditation Circle A5
URL:https://dakinimaris.org/event/meditation-circle-15/
LOCATION:Dakini home\, Ormskirk\, L39 3LB\, United Kingdom
CATEGORIES:Regular Class
END:VEVENT
END:VCALENDAR